BEGIN:VCALENDAR
VERSION:2.0
PRODID:-//ChamberMaster//Event Calendar 2.0//EN
METHOD:PUBLISH
X-PUBLISHED-TTL:P3D
REFRESH-INTERVAL:P3D
CALSCALE:GREGORIAN
BEGIN:VEVENT
DTSTART:20240127T200000Z
DTEND:20240128T000000Z
X-MICROSOFT-CDO-ALLDAYEVENT:FALSE
SUMMARY:Winter Bingo
DESCRIPTION:Winter Bingo will be held at Fountain Hill Winery in the month of January\, There is limited indoor seating so first come fist served. Winner of each round wins 100% of the Pot! HOPE TO SEE YOU THERE!!
X-ALT-DESC;FMTTYPE=text/html:Winter Bingo will be held at Fountain Hill Winery in the month of January\, There is limited indoor seating so first come fist served. Winner of each round wins 100% of the Pot! HOPE TO SEE YOU THERE!!
LOCATION:731 County Road 30 SE\, Delano
UID:e.14.4238
SEQUENCE:3
DTSTAMP:20260425T110642Z
URL:https://business.delanochamber.com/events/details/winter-bingo-01-27-2024-4238
END:VEVENT

END:VCALENDAR
