BEGIN:VCALENDAR
VERSION:2.0
PRODID:-//ChamberMaster//Event Calendar 2.0//EN
METHOD:PUBLISH
X-PUBLISHED-TTL:P3D
REFRESH-INTERVAL:P3D
CALSCALE:GREGORIAN
BEGIN:VEVENT
DTSTART:20240315T190000Z
DTEND:20240315T194500Z
X-MICROSOFT-CDO-ALLDAYEVENT:FALSE
SUMMARY:Ribbon Cutting - Steamology
DESCRIPTION:Join us for ribbon cutting celebration for Steamology Detailing at 940 McKinley Parkway\, Delano MN 55328. Steamology is located in West End Autoplex & Business Center in the West Industrial Park.
X-ALT-DESC;FMTTYPE=text/html:Join us for ribbon cutting celebration for Steamology Detailing&nbsp\;<span style="font-family:arial\,sans-serif\;"><span style="font-size:10.5pt\;">at 940 McKinley Parkway\, Delano MN 55328. Steamology is located in West End Autoplex &amp\; Business Center in the West Industrial Park.&nbsp\;</span></span>
LOCATION:
UID:e.14.4249
SEQUENCE:3
DTSTAMP:20260425T110733Z
URL:https://business.delanochamber.com/events/details/ribbon-cutting-steamology-4249
END:VEVENT

END:VCALENDAR
