BEGIN:VCALENDAR
VERSION:2.0
PRODID:-//ChamberMaster//Event Calendar 2.0//EN
METHOD:PUBLISH
X-PUBLISHED-TTL:P3D
REFRESH-INTERVAL:P3D
CALSCALE:GREGORIAN
BEGIN:VEVENT
DTSTART:20240119T100000Z
DTEND:20240119T130000Z
X-MICROSOFT-CDO-ALLDAYEVENT:FALSE
SUMMARY:Ladies Night
DESCRIPTION:Grab your girl friends and head over to Fountain Hill Winery for Ladies Night! We will have mini wine bottle painting for $5 a bottle. After your bottle has been painted we will transform it into a citronella candle! We are also doing a 2 for 1 on our new punch cards! Don't have a punch card? Come on in to get one!
X-ALT-DESC;FMTTYPE=text/html:<span style="background-color:rgb(249\, 249\, 249)\; color:rgb(68\, 68\, 68)\; font-family:raleway\,sans-serif\; font-size:16px">Grab your girl friends and head over to Fountain Hill Winery for Ladies Night! We will have mini wine bottle painting for $5 a bottle. After your bottle has been painted we will transform it into a citronella candle! We are also doing a 2 for 1 on our new punch cards! Don&#39\;t have a punch card? Come on in to get one!</span>
LOCATION:731 County RD 30 SE\, Delano
UID:e.14.4244
SEQUENCE:3
DTSTAMP:20260425T110732Z
URL:https://business.delanochamber.com/events/details/ladies-night-01-19-2024-4244
END:VEVENT

END:VCALENDAR
