BEGIN:VCALENDAR
VERSION:2.0
PRODID:-//ChamberMaster//Event Calendar 2.0//EN
METHOD:PUBLISH
X-PUBLISHED-TTL:P3D
REFRESH-INTERVAL:P3D
CALSCALE:GREGORIAN
BEGIN:VEVENT
DTSTART:20231207T160000Z
DTEND:20231208T030000Z
X-MICROSOFT-CDO-ALLDAYEVENT:FALSE
SUMMARY:Hiring Event
DESCRIPTION:Come in for a open interview for cooks\, counter help and shift lead positions.
X-ALT-DESC;FMTTYPE=text/html:Come in for a open interview for cooks\, counter help and shift lead positions.
LOCATION:Delano Culver's at 888 St Peter Ave East\, Delano MN
UID:e.14.4228
SEQUENCE:3
DTSTAMP:20260425T125314Z
URL:https://business.delanochamber.com/events/details/hiring-event-12-07-2023-4228
END:VEVENT

END:VCALENDAR
