BEGIN:VCALENDAR
VERSION:2.0
PRODID:-//ChamberMaster//Event Calendar 2.0//EN
METHOD:PUBLISH
X-PUBLISHED-TTL:P3D
REFRESH-INTERVAL:P3D
CALSCALE:GREGORIAN
BEGIN:VEVENT
DTSTART;VALUE=DATE:20200608
DTEND;VALUE=DATE:20200609
TRANSP:TRANSPARENT
X-MICROSOFT-CDO-ALLDAYEVENT:TRUE
SUMMARY:Grand Opening - Primary Eyecare
DESCRIPTION:
X-ALT-DESC;FMTTYPE=text/html:
LOCATION:1045 Crossing Dr\, Suite 200 Delano\, MN 55328
UID:e.14.3951
SEQUENCE:3
DTSTAMP:20260420T081950Z
URL:https://business.delanochamber.com/events/details/grand-opening-primary-eyecare-3951
END:VEVENT

END:VCALENDAR
