BEGIN:VCALENDAR
VERSION:2.0
PRODID:-//ChamberMaster//Event Calendar 2.0//EN
METHOD:PUBLISH
X-PUBLISHED-TTL:P3D
REFRESH-INTERVAL:P3D
CALSCALE:GREGORIAN
BEGIN:VEVENT
DTSTART:20240307T230000Z
DTEND:20240308T020000Z
X-MICROSOFT-CDO-ALLDAYEVENT:FALSE
SUMMARY:Early Childhood Open House
DESCRIPTION:Mt. Olive Lutheran Church & School Presents:\n\n\n\nEarly Childhood Open House\n\n\n\nBounce House\n\nCotton Candy\n\nFace Painter\n\nPopcorn\n\nPhoto Booth \n\n\n\nFREE fun for the whole family so you can come meet our teachers\, see our classrooms\, get more information\, and get a $100 discount credit for coming to the event.
X-ALT-DESC;FMTTYPE=text/html:<p>Mt. Olive Lutheran Church &amp\; School Presents:<br />\n<br />\nEarly Childhood Open House<br />\n<br />\nBounce House<br />\nCotton Candy<br />\nFace Painter<br />\nPopcorn<br />\nPhoto Booth&nbsp\;<br />\n<br />\nFREE fun for the whole family so you can come meet our teachers\, see our classrooms\, get more information\, and get a $100 discount credit for coming to the event.</p>\n
LOCATION:Mt. Olive Lutheran Church & School 435 Bridge Ave E Delano MN 55328
UID:e.14.4247
SEQUENCE:3
DTSTAMP:20260425T111912Z
URL:https://business.delanochamber.com/events/details/early-childhood-open-house-4247
END:VEVENT

END:VCALENDAR
