BEGIN:VCALENDAR
VERSION:2.0
PRODID:-//ChamberMaster//Event Calendar 2.0//EN
METHOD:PUBLISH
X-PUBLISHED-TTL:P3D
REFRESH-INTERVAL:P3D
CALSCALE:GREGORIAN
BEGIN:VEVENT
DTSTART:20231202T230000Z
DTEND:20231203T040000Z
X-MICROSOFT-CDO-ALLDAYEVENT:FALSE
SUMMARY:Delano Snowstormers Snowmobile Club Silent Auction Fundraiser 2023
DESCRIPTION:Delano Snowstormers Snowmobile Club will host their annual Silent Auction Fundraiser on Saturday\, December 2\, 2023 at the Delano American Legion Post 377\, 240 Babcock Boulevard West\, Delano\, MN. starting at 5:00 p.m. We are members of Wright County Snowmobile Association\, Minnesota United Snowmobile Association. Delano Area Chamber of Commerce and are DNR Certified Safety Training Instructors. Snowstormers' purpose is to promote great snowmobile trails and safe riding in the Delano area and to teach youth snowmobile safety training every year in January. Trail maintenance and development\, bridge work and grooming is completed by our volunteer club members. A WCSA Tucker Groomer operated and maintained by Snowstormers provides freshly groomed trails. We respect landowner private properties as they permit use of their land for snowmobiling. All proceeds go to Delano Snowstormers to help defer expenses of trail maintenance equipment and classroom expenses for our youth safety training class taught every year in January in Delano. If anyone is interested in donating a gift basket\, gift certificate or product to our event\, please call 612-916-8352. This event is free and open to the public to attend. There are many great silent auction items for yourself or gift giving. Also $1 ticket raffle for great prizes and a 2024 Polaris Ranger raffle that will be drawn that evening. Don't miss this great event. delanosnowstormers.com.
X-ALT-DESC;FMTTYPE=text/html:Delano Snowstormers Snowmobile Club will host their annual Silent Auction Fundraiser on Saturday\, December 2\, 2023 at the Delano American Legion Post 377\, 240 Babcock Boulevard West\, Delano\, MN. starting at 5:00 p.m. We are members of Wright County Snowmobile Association\, Minnesota United Snowmobile Association. Delano Area Chamber of Commerce and are DNR Certified Safety Training Instructors. Snowstormers&rsquo\; purpose is to promote great snowmobile trails and safe riding in the Delano area and to teach youth snowmobile safety training every year in January. Trail maintenance and development\, bridge work and grooming is completed by our volunteer club members. A WCSA Tucker Groomer operated and maintained by Snowstormers provides freshly groomed trails. We respect landowner private properties as they permit use of their land for snowmobiling. All proceeds go to Delano Snowstormers to help defer expenses of trail maintenance equipment and classroom expenses for our youth safety training class taught every year in January in Delano. If anyone is interested in donating a gift basket\, gift certificate or product to our event\, please call 612-916-8352. This event is free and open to the public to attend. There are many great silent auction items for yourself or gift giving. Also $1 ticket raffle for great prizes and a 2024 Polaris Ranger raffle that will be drawn that evening. Don&#39\;t miss this great event. delanosnowstormers.com.
LOCATION:Delano American Legion Post 377
UID:e.14.4199
SEQUENCE:3
DTSTAMP:20260425T125934Z
URL:https://business.delanochamber.com/events/details/delano-snowstormers-snowmobile-club-silent-auction-fundraiser-2023-4199
END:VEVENT

END:VCALENDAR
