BEGIN:VCALENDAR
VERSION:2.0
PRODID:-//ChamberMaster//Event Calendar 2.0//EN
METHOD:PUBLISH
X-PUBLISHED-TTL:P3D
REFRESH-INTERVAL:P3D
CALSCALE:GREGORIAN
BEGIN:VEVENT
DTSTART:20220317T164500Z
DTEND:20220317T180000Z
X-MICROSOFT-CDO-ALLDAYEVENT:FALSE
SUMMARY:Delano Chamber General Meeting
DESCRIPTION:The General Membership Meeting of the Chamber is open to members and businesses interested in learning more about the Delano Area Chamber of Commerce. Please email or call the Chamber to reserve your lunch at the meeting.  Members are encourage to bring guests. \n\n	\n\n	Topics vary monthly. This is a great opportunity to network with fellow chamber members\, and share your thoughts and ideas.
X-ALT-DESC;FMTTYPE=text/html:<p>\n	The General Membership Meeting of the Chamber is open to members and businesses interested in learning more about the Delano Area Chamber of Commerce. Please email or call the Chamber to reserve your lunch at the meeting.&nbsp\; Members are encourage to bring guests.&nbsp\;<br />\n	<br />\n	Topics vary monthly. This is a great opportunity to network with fellow chamber members\, and share your thoughts and ideas.<br />\n	&nbsp\;</p>\n
LOCATION:Location and topic announced via email to Chamber Members. Non-members are invited to attend to find out more about the Delano Area Chamber of Commerce. Please RSVP so that we know to expect you.
UID:e.14.3624
SEQUENCE:3
DTSTAMP:20260420T185735Z
URL:https://business.delanochamber.com/events/details/delano-chamber-general-meeting-03-17-2022-3624
END:VEVENT

END:VCALENDAR
