BEGIN:VCALENDAR
VERSION:2.0
PRODID:-//ChamberMaster//Event Calendar 2.0//EN
METHOD:PUBLISH
X-PUBLISHED-TTL:P3D
REFRESH-INTERVAL:P3D
CALSCALE:GREGORIAN
BEGIN:VEVENT
DTSTART:20240315T210000Z
DTEND:20240316T003000Z
X-MICROSOFT-CDO-ALLDAYEVENT:FALSE
SUMMARY:Delano After Hours
DESCRIPTION:Delano After Hours\, Friday\, March 15th from 4 pm until 7:30 pm. Have your family and friends join us for music\, exotic cars\, free snacks\, drinks\, food trucks & community camaraderie!\n\n\n\nCheck out the West End Autoplex & Business Center and learn all about Steamology Detailing.
X-ALT-DESC;FMTTYPE=text/html:<span style="font-family:arial\,sans-serif\;"><span style="font-size:10.5pt\;">&nbsp\;Delano After Hours\, Friday\, March 15th from 4 pm until 7:30 pm. Have your&nbsp\;family and friends join us for&nbsp\;<span style="white-space-collapse:preserve\;"><span style="background:white\;"><span style="color:#050505\;">music\, exotic cars\, free snacks\, drinks\, food trucks &amp\; community camaraderie!<br />\n<br />\nCheck out the West End Autoplex &amp\; Business Center and learn all about Steamology Detailing.</span></span></span></span></span><br />\n&nbsp\;\n<div align="center" style="text-align:center\;">\n<hr align="center" size="2" width="100%" /></div>\n
LOCATION:940 McKinley Parkway\, Delano MN 55328
UID:e.14.4250
SEQUENCE:3
DTSTAMP:20260420T114459Z
URL:https://business.delanochamber.com/events/details/delano-after-hours-4250
END:VEVENT

END:VCALENDAR
