BEGIN:VCALENDAR
VERSION:2.0
PRODID:-//ChamberMaster//Event Calendar 2.0//EN
METHOD:PUBLISH
X-PUBLISHED-TTL:P3D
REFRESH-INTERVAL:P3D
CALSCALE:GREGORIAN
BEGIN:VEVENT
DTSTART:20220525T210000Z
DTEND:20220525T230000Z
X-MICROSOFT-CDO-ALLDAYEVENT:FALSE
SUMMARY:Delano After Hours
DESCRIPTION:Join us for a happy hour to network with other business owners and enjoy refreshments and live music.
X-ALT-DESC;FMTTYPE=text/html:Join us for a happy hour to network with other business owners and enjoy refreshments and live music.
LOCATION:The Realty Lab brokered by eXp Realty at 220 River St N\, Delano\, MN 55328
UID:e.14.3971
SEQUENCE:3
DTSTAMP:20260423T073732Z
URL:https://business.delanochamber.com/events/details/delano-after-hours-3971
END:VEVENT

END:VCALENDAR
