BEGIN:VCALENDAR
VERSION:2.0
PRODID:-//ChamberMaster//Event Calendar 2.0//EN
METHOD:PUBLISH
X-PUBLISHED-TTL:P3D
REFRESH-INTERVAL:P3D
CALSCALE:GREGORIAN
BEGIN:VEVENT
DTSTART:20240327T130000Z
DTEND:20240327T140000Z
X-MICROSOFT-CDO-ALLDAYEVENT:FALSE
SUMMARY:Chamber Economic Development
DESCRIPTION:Members of the Chamber's Economic Development Committee and invited guests.
X-ALT-DESC;FMTTYPE=text/html:Members of the Chamber&#39\;s Economic Development Committee and invited guests.
LOCATION:City Hall
UID:e.14.3868
SEQUENCE:3
DTSTAMP:20260425T110543Z
URL:https://business.delanochamber.com/events/details/chamber-economic-development-03-27-2024-3868
END:VEVENT

END:VCALENDAR
