BEGIN:VCALENDAR
VERSION:2.0
PRODID:-//ChamberMaster//Event Calendar 2.0//EN
METHOD:PUBLISH
X-PUBLISHED-TTL:P3D
REFRESH-INTERVAL:P3D
CALSCALE:GREGORIAN
BEGIN:VEVENT
DTSTART;VALUE=DATE:20240121
DTEND;VALUE=DATE:20240122
TRANSP:TRANSPARENT
X-MICROSOFT-CDO-ALLDAYEVENT:TRUE
SUMMARY:Bottomless Mimosa
DESCRIPTION:Grab a friend and enjoy a day of bottomless mimosas at Fountain Hill Winery! Please\, drink responsibly and have a sober ride. Can't wait to see you there :)
X-ALT-DESC;FMTTYPE=text/html:Grab a friend and enjoy a day of bottomless mimosas at Fountain Hill Winery! Please\, drink responsibly and have a sober ride. Can&#39\;t wait to see you there :)
LOCATION:731 County Road 30 SE\, Delano
UID:e.14.4241
SEQUENCE:3
DTSTAMP:20260425T110629Z
URL:https://business.delanochamber.com/events/details/bottomless-mimosa-01-21-2024-4241
END:VEVENT

END:VCALENDAR
