BEGIN:VCALENDAR
VERSION:2.0
PRODID:-//ChamberMaster//Event Calendar 2.0//EN
METHOD:PUBLISH
X-PUBLISHED-TTL:P3D
REFRESH-INTERVAL:P3D
CALSCALE:GREGORIAN
BEGIN:VEVENT
DTSTART:20191022T150000Z
DTEND:20191022T160000Z
X-MICROSOFT-CDO-ALLDAYEVENT:FALSE
SUMMARY:Ambassador/ Membership Meeting
DESCRIPTION:Committee schedules visits with area new businesses and other businesses for recognition of progress\, longevity and other special milestones.  If you know of a business that the Ambassadors should recognize\, especially new businesses in the Delano Area\, PLEASE CONTACT THE CHAMBER OFFICE!  Thank you!
X-ALT-DESC;FMTTYPE=text/html:Committee schedules visits with area new businesses and other businesses for recognition of progress\, longevity and other special milestones.&nbsp\; <span style="color: #ff0000">If you know of a business that the Ambassadors should recognize\, especially new businesses in the Delano Area\, PLEASE CONTACT THE CHAMBER OFFICE!&nbsp\; Thank you!</span>
LOCATION:Delano Area Chamber of Commerce Office
UID:e.14.3434
SEQUENCE:3
DTSTAMP:20260423T103602Z
URL:https://business.delanochamber.com/events/details/ambassador-membership-meeting-10-22-2019-3434
END:VEVENT

END:VCALENDAR
